BEGIN:VCALENDAR
VERSION:2.0
PRODID:-//Sitio web de sociedad y cultura - ECPv4.8.2//NONSGML v1.0//EN
CALSCALE:GREGORIAN
METHOD:PUBLISH
X-WR-CALNAME:Sitio web de sociedad y cultura
X-ORIGINAL-URL:https://www.elincape.com
X-WR-CALDESC:Eventos para Sitio web de sociedad y cultura
BEGIN:VEVENT
DTSTART;VALUE=DATE:20251225
DTEND;VALUE=DATE:20251226
DTSTAMP:20260420T080949
CREATED:20191224T223618Z
LAST-MODIFIED:20260407T174741Z
UID:3197-1766620800-1766707199@www.elincape.com
SUMMARY:25 de diciembre en Ancash
DESCRIPTION:Los hechos del día 25 de diciembre\, tienen como base los datos del libro Un día como hoy en Ancash\, de Rómulo Pajuelo Prieto: \n \n  \n1807: En Huaylas\, nace Manuelita Castellanos Madrona\, conocida como “la vieja de Bolívar”. \n1824: Coronan como Patrona de la Libertad a la imagen de la Santísima Virgen del Rosario de Chiquinquirá de Caraz\, al conocerse el triunfo del Ejército Libertador en Ayacucho. \n1878: En Carhuaz\, nace Ambrosio Alegre Mejía\, uno de los gestores de la creación del colegio “2 de Mayo” de Caraz\, cuando era diputado por la provincia Huaylas. \n1884: En el atrio de la catedral de Huaraz eligen a Pedro Pablo Atusparia como alcalde pedáneo o alcalde ordinario. \n1904: En Caraz\, nace Manuel Gómez Arellano\, patrocinador del deporte en Chimbote. \n1905: En el valle Tambo (Arequipa)\, nace Ernesto Reyna Zegarra\, destacado escritor\, autor de la novela “El Amauta Atusparia”. \n1985: Terroristas de Sendero Luminoso ingresan a Pacllón (provincia Bolognesi) y asesinan al juez de paz Abelardo Durona\, y a los profesores Máximo Ibarra\, Demetrio y Juan Mendoza. \n1996: Muere Justiniano Escudero Támara\, educador y poeta pomabambino. \n2008: Muere Armando Moreno Romero\, destacado empresario huaracino. \nNotas del segmento un día como hoy en Áncash:\n\nSolo se aceptarán los comentarios que tengan relación con el contenido de la publicación. No están permitidas las agresiones verbales\, ni opiniones que inciten conflictos o acciones violentas.\nSi deseas agregar o corregir algún dato histórico de este día\, solo contáctanos.\n[vc_cta h2=»» txt_align=»center» el_width=»sm» add_button=»top» btn_title=»QUIERO DONAR» btn_shape=»round» btn_color=»inverse» btn_align=»center» btn_css_animation=»top-to-bottom» add_icon=»top» i_icon_fontawesome=»fa fa-arrow-down» i_color=»custom» i_size=»sm» i_css_animation=»top-to-bottom» css_animation=»top-to-bottom» btn_link=»url:https%3A%2F%2Fwww.paypal.com%2Fcgi-bin%2Fwebscr%3Fcmd%3D_s-xclick%26hosted_button_id%3DQLYBAGSK8XDSJ%26source%3Durl||target:%20_blank» i_on_border=»true» i_custom_color=»#57524b» i_link=»url:https%3A%2F%2Fwww.paypal.com%2Fcgi-bin%2Fwebscr%3Fcmd%3D_s-xclick%26hosted_button_id%3DQLYBAGSK8XDSJ%26source%3Durl||target:%20_blank»] \nApoya este proyecto para más y mejor contenido cultural.\n\n\n\n\n\n[/vc_cta][vc_row][vc_column] \n    \n    \n	jQuery(document).ready(function($) {\n		$("#from-the-blog-693446529").owlCarousel({\n			items:3\,\n			itemsDesktop : [1200\,3]\,\n			itemsDesktopSmall : [1000\,2]\,\n			itemsTablet: false\,\n			itemsMobile : [600\,1]\,\n			lazyLoad : true\,\n			/*autoHeight : true\,*/\n		});\n	});\n	\n    \n	\n    \n	\n        \n					\n			                        \n                            \n                                        \n                    \n                        \n						\n							\n								\n								\n																	\n									\n																\n																	\n									\n															\n							José Malca Landavery\n						\n                        \n                        \n                             by admin on octubre 14\, 2025                       \n                        \n                        \n                    \n        \n                            \n                                        \n                    \n                        \n						\n							\n								\n								\n																	\n									\n																\n																	\n									\n															\n							Villa de San Julián de Cuenca y Figueroa\n						\n                        \n                        \n                             by admin on noviembre 1\, 2024                       \n                        \n                        \n                    \n        \n                            \n                                        \n                    \n                        \n						\n							\n								\n								\n																	\n									\n																\n																	\n									\n															\n							Ichick Ollkjo\n						\n                        \n                        \n                             by admin on agosto 21\, 2024                       \n                        \n                        \n                    \n        \n                                \n             \n              \n        \n	\n    \n	\n	[/vc_column][/vc_row]\n\n            (function(d\, s\, id) {\n              var js\, fjs = d.getElementsByTagName(s)[0];\n              if (d.getElementById(id)) return;\n              js = d.createElement(s); js.id = id;\n              js.async=true; \n              js.src = "//connect.facebook.net/es_LA/all.js#xfbml=1&appId=395202813876688";\n              fjs.parentNode.insertBefore(js\, fjs);\n            }(document\, 'script'\, 'facebook-jssdk')); \n                  \n                   \n                  \n               \n\n\n	\n	\n		\n\n	\n		\n\n			\n\n				\n\n					\n						\n							\n							\n\n\n								\n									\n\n																							\n						\n\n					\n\n				\n\n				\n\n					\n						\n\n							\n								\n									\n										\n								\n\n							\n							\n								\n									El Inca																				 \n									\n								\n								6 meses 5 dias atrás\n							\n						\n\n					\n\n					\n\n					\n													\n								José Malca Landavery\, conocido por todos como Pepe Malca\, nació en Caraz el 10 de enero de 1931\, en el tradicional barrio de Yanachaca. Por\n\n\n								\n\n							 \n\n						\n					\n					\n				\n						\n\n			\n\n\n		\n							\n\n					\n						\n							\n\n																	\n								\n																18							\n							\n\n\n											\n\n							\n								2\n								\n						\n					\n							\n\n				\n			\n\n\n			\n\n				\n					Visualizza su Facebook\n\n				\n				\n					\n						Condividere\n						\n							\n								\n									\n								\n							\n\n							\n								\n									\n								\n							\n\n							\n								\n									\n								\n							\n						\n					\n				\n			\n\n		\n\n\n	\n\n\n	\n\n\n\n\n\n	\n		\n\n			\n\n				\n\n					\n						\n							\n							\n\n\n								\n									\n\n																							\n						\n\n					\n\n				\n\n				\n\n					\n						\n\n							\n								\n									\n										\n								\n\n							\n							\n								\n									El Inca																				 \n									\n								\n								1 anno 2 meses atrás\n							\n						\n\n					\n\n					\n\n					\n													\n								1872: En acto solemne inicia la obra del ferrocarril Chimbote – Huallanca con asistencia del prefecto Nicanor Gonzales del Real\, durante el gobierno de José\n\n\n								\n\n							 \n\n						\n					\n					\n				\n						\n\n			\n\n\n		\n							\n\n					\n						\n							\n\n																	\n								\n																3							\n							\n\n\n											\n\n							\n								1\n								\n						\n					\n							\n\n				\n			\n\n\n			\n\n				\n					Visualizza su Facebook\n\n				\n				\n					\n						Condividere\n						\n							\n								\n									\n								\n							\n\n							\n								\n									\n								\n							\n\n							\n								\n									\n								\n							\n						\n					\n				\n			\n\n		\n\n\n	\n\n\n	\n\n\n\n			\n			\n				\n            (function(d\, s\, id) {\n              var js\, fjs = d.getElementsByTagName(s)[0];\n              if (d.getElementById(id)) return;\n              js = d.createElement(s); js.id = id;\n              js.async=true; \n              js.src = "//connect.facebook.net/en_US/all.js#xfbml=1&appId=395202813876688";\n              fjs.parentNode.insertBefore(js\, fjs);\n            }(document\, 'script'\, 'facebook-jssdk')); \n                  \n                   \n                  \n               \n            \n				\n		\n\n  ins.adsbygoogle { background: transparent !important; } Resalta y difunde cultura.
URL:https://www.elincape.com/undiacomohoyenancash/25-de-diciembre-en-ancash/
CATEGORIES:Un día como hoy en Ancash
ATTACH;FMTTYPE=image/jpeg:https://www.elincape.com/wp-content/uploads/2019/12/25-de-diciembre-en-Ancash-El-Inca-Chiquinquira-Caraz-01.jpg
END:VEVENT
END:VCALENDAR