BEGIN:VCALENDAR
VERSION:2.0
PRODID:-//Sitio web de sociedad y cultura - ECPv4.8.2//NONSGML v1.0//EN
CALSCALE:GREGORIAN
METHOD:PUBLISH
X-WR-CALNAME:Sitio web de sociedad y cultura
X-ORIGINAL-URL:https://www.elincape.com
X-WR-CALDESC:Eventos para Sitio web de sociedad y cultura
BEGIN:VEVENT
DTSTART;VALUE=DATE:20251022
DTEND;VALUE=DATE:20251023
DTSTAMP:20260420T080852
CREATED:20191020T191046Z
LAST-MODIFIED:20251013T174028Z
UID:2870-1761091200-1761177599@www.elincape.com
SUMMARY:22 de octubre en Ancash
DESCRIPTION:Los hechos del día 22 de octubre\, tienen como base los datos del libro Un día como hoy en Ancash\, de Rómulo Pajuelo Prieto: \n \n  \n1861: En Huaylas\, nace Germán Ivanhoe Alba Jurado\, héroe en la guerra con Chile\, conocido como “El abanderado de Pucará” por ofrendar su vida antes de permitir que soldados chilenos le arrebaten la bandera peruana. \n1903: Crean la provincia Bolognesi\, con su capital Chiquián\, independizandose así de la intendencia Cajatambo. \nDividen el distrito Mangas en dos\, creando el distrito Copa (provincia Cajatambo) y Mangas (provincia Bolognesi). \nEl distrito Pacllón deja de pertenecer a Cajatambo y pasa a formar parte de la provincia Bolognesi. \n1927: En Huaraz\, nace Humberto Chávez Bayona\, destacado pintor que realizó diversas exposiciones en Huaraz\, Lima\, Chile y Puerto Rico. Fundador y primer director de la Escuela Regional de Bellas Artes Ancash. \n1935: Crean el Museo Arqueológico de Huaraz\, autorizando el traslado de los monolitos que se encontraban en el hospital Belén. Gestión del caracino Mario Augusto Soriano Infante\, por sugerencia de julio C. Tello. \n1942: En Chimbote\, nace Álvaro Vidal Rivadeneira\, médico y ministro de Salud. \n1946: Víctor Raúl Haya de la Torre es declarado Huésped Ilustre e Hijo Predilecto de Chimbote. \n1990: Terroristas asesinan a Pedro Macedo Figueroa\, destacado docente del Pedagógico de Huaraz y periodista\, considerado mártir del periodismo. \nSENAPA transfiere la empresa a SEDA CHIMBOTE y las municipalidades de Santa\, Casma y Huarmey. \nNotas del segmento un día como hoy en Áncash:\n\nSolo se aceptarán los comentarios que tengan relación con el contenido de la publicación. No están permitidas las agresiones verbales\, ni opiniones que inciten conflictos o acciones violentas.\nSi deseas agregar o corregir algún dato histórico de este día\, solo contáctanos.\n\n[vc_cta h2=»» txt_align=»center» el_width=»sm» add_button=»top» btn_title=»QUIERO DONAR» btn_shape=»round» btn_color=»inverse» btn_align=»center» btn_css_animation=»top-to-bottom» add_icon=»top» i_icon_fontawesome=»fa fa-arrow-down» i_color=»custom» i_size=»sm» i_css_animation=»top-to-bottom» css_animation=»top-to-bottom» btn_link=»url:https%3A%2F%2Fwww.paypal.com%2Fcgi-bin%2Fwebscr%3Fcmd%3D_s-xclick%26hosted_button_id%3DQLYBAGSK8XDSJ%26source%3Durl||target:%20_blank» i_on_border=»true» i_custom_color=»#57524b» i_link=»url:https%3A%2F%2Fwww.paypal.com%2Fcgi-bin%2Fwebscr%3Fcmd%3D_s-xclick%26hosted_button_id%3DQLYBAGSK8XDSJ%26source%3Durl||target:%20_blank»] \nApoya este proyecto para más y mejor contenido cultural.\n\n\n\n\n\n[/vc_cta][vc_row][vc_column] \n    \n    \n	jQuery(document).ready(function($) {\n		$("#from-the-blog-1370896000").owlCarousel({\n			items:3\,\n			itemsDesktop : [1200\,3]\,\n			itemsDesktopSmall : [1000\,2]\,\n			itemsTablet: false\,\n			itemsMobile : [600\,1]\,\n			lazyLoad : true\,\n			/*autoHeight : true\,*/\n		});\n	});\n	\n    \n	\n    \n	\n        \n					\n			                        \n                            \n                                        \n                    \n                        \n						\n							\n								\n								\n																	\n									\n																\n																	\n									\n															\n							José Malca Landavery\n						\n                        \n                        \n                             by admin on octubre 14\, 2025                       \n                        \n                        \n                    \n        \n                            \n                                        \n                    \n                        \n						\n							\n								\n								\n																	\n									\n																\n																	\n									\n															\n							Villa de San Julián de Cuenca y Figueroa\n						\n                        \n                        \n                             by admin on noviembre 1\, 2024                       \n                        \n                        \n                    \n        \n                            \n                                        \n                    \n                        \n						\n							\n								\n								\n																	\n									\n																\n																	\n									\n															\n							Ichick Ollkjo\n						\n                        \n                        \n                             by admin on agosto 21\, 2024                       \n                        \n                        \n                    \n        \n                                \n             \n              \n        \n	\n    \n	\n	[/vc_column][/vc_row] \n  ins.adsbygoogle { background: transparent !important; } Resalta y difunde cultura.
URL:https://www.elincape.com/undiacomohoyenancash/22-de-octubre-en-ancash/
CATEGORIES:Un día como hoy en Ancash
ATTACH;FMTTYPE=image/jpeg:https://www.elincape.com/wp-content/uploads/2019/10/22-de-octubre-en-Ancash-El-Inca-provincia-Bolognesi-mapa-01.jpg
END:VEVENT
END:VCALENDAR