BEGIN:VCALENDAR
VERSION:2.0
PRODID:-//Sitio web de sociedad y cultura - ECPv4.8.2//NONSGML v1.0//EN
CALSCALE:GREGORIAN
METHOD:PUBLISH
X-WR-CALNAME:Sitio web de sociedad y cultura
X-ORIGINAL-URL:https://www.elincape.com
X-WR-CALDESC:Eventos para Sitio web de sociedad y cultura
BEGIN:VEVENT
DTSTART;VALUE=DATE:20260421
DTEND;VALUE=DATE:20260422
DTSTAMP:20260420T121748
CREATED:20190417T121909Z
LAST-MODIFIED:20260408T174941Z
UID:1565-1776729600-1776815999@www.elincape.com
SUMMARY:21 de abril en Ancash
DESCRIPTION:Los hechos del día 21 de abril\, tienen como base los datos del libro Un día como hoy en Ancash\, de Rómulo Pajuelo Prieto: \n \n  \n1885: Las fuerzas de Atusparia atacan Yungay. En el feroz combate muere Monstrestruque y Atusparia recibió una bala en la pierna. Fueron rechazados por las fuerzas del prefecto Iraola. \n1926: Nace en Yungay\, Luis Alfonso Arias Graziani\, general de la FAP\, ministro de estado en el gobierno de Juan Velasco Alvarado. \n1958: Inauguran la planta siderúrgica de Chimbote durante el gobierno de Manuel Prado. La planta entra en funcionamiento junto a la Central de la Hidroeléctrica Cañón del Pato con 50 MW de potencia. Así Perú entra a la llamada “Era de Acero”. \nExpropian el campo de aterrizaje de Caraz para el traslado de damnificados por un incendio\, inaugurando así la urbanización  21 de Abril. \nMuere Baca Pérez\, ingeniero y director fundador del periódico “El Faro de Chimbote”. \n1981: Crean la Fiscalía Provincial Mixta de Huari. La primera fiscal provisional Gladis Elvira Diestra Pascual. \n2006: Autoridades y pobladores de Caraz y Chimbote desarrollan una movilización en Huaraz exigiendo el asfaltado de la carretera Huallanca Chuquicara. \n2020: Gran parte de la población caracina que no obedecía la orden nacional de aislamiento obligatorio para evitar la propagación del Coronavirus o Covid 19\, decide aguardar dentro de sus viviendas por temor al video viral de una niña que predecía el fin del mundo. Similar reacción imitaron muchas ciudades y pueblos del departamento. \nNotas del segmento un día como hoy en Áncash:\n\nSolo se aceptarán los comentarios que tengan relación con el contenido de la publicación. No están permitidas las agresiones verbales\, ni opiniones que inciten conflictos o acciones violentas.\nSi deseas agregar o corregir algún dato histórico de este día\, solo contáctanos.\n\n[vc_cta h2=»» txt_align=»center» el_width=»sm» add_button=»top» btn_title=»QUIERO DONAR» btn_shape=»round» btn_color=»inverse» btn_align=»center» btn_css_animation=»top-to-bottom» add_icon=»top» i_icon_fontawesome=»fa fa-arrow-down» i_color=»custom» i_size=»sm» i_css_animation=»top-to-bottom» css_animation=»top-to-bottom» btn_link=»url:https%3A%2F%2Fwww.paypal.com%2Fcgi-bin%2Fwebscr%3Fcmd%3D_s-xclick%26hosted_button_id%3DQLYBAGSK8XDSJ%26source%3Durl||target:%20_blank» i_on_border=»true» i_custom_color=»#57524b» i_link=»url:https%3A%2F%2Fwww.paypal.com%2Fcgi-bin%2Fwebscr%3Fcmd%3D_s-xclick%26hosted_button_id%3DQLYBAGSK8XDSJ%26source%3Durl||target:%20_blank»] \nApoya este proyecto para más y mejor contenido cultural.\n\n\n\n\n\n[/vc_cta][vc_row][vc_column] \n    \n    \n	jQuery(document).ready(function($) {\n		$("#from-the-blog-276115090").owlCarousel({\n			items:3\,\n			itemsDesktop : [1200\,3]\,\n			itemsDesktopSmall : [1000\,2]\,\n			itemsTablet: false\,\n			itemsMobile : [600\,1]\,\n			lazyLoad : true\,\n			/*autoHeight : true\,*/\n		});\n	});\n	\n    \n	\n    \n	\n        \n					\n			                        \n                            \n                                        \n                    \n                        \n						\n							\n								\n								\n																	\n									\n																\n																	\n									\n															\n							José Malca Landavery\n						\n                        \n                        \n                             by admin on octubre 14\, 2025                       \n                        \n                        \n                    \n        \n                            \n                                        \n                    \n                        \n						\n							\n								\n								\n																	\n									\n																\n																	\n									\n															\n							Villa de San Julián de Cuenca y Figueroa\n						\n                        \n                        \n                             by admin on noviembre 1\, 2024                       \n                        \n                        \n                    \n        \n                            \n                                        \n                    \n                        \n						\n							\n								\n								\n																	\n									\n																\n																	\n									\n															\n							Ichick Ollkjo\n						\n                        \n                        \n                             by admin on agosto 21\, 2024                       \n                        \n                        \n                    \n        \n                                \n             \n              \n        \n	\n    \n	\n	[/vc_column][/vc_row]\n\n            (function(d\, s\, id) {\n              var js\, fjs = d.getElementsByTagName(s)[0];\n              if (d.getElementById(id)) return;\n              js = d.createElement(s); js.id = id;\n              js.async=true; \n              js.src = "//connect.facebook.net/es_LA/all.js#xfbml=1&appId=395202813876688";\n              fjs.parentNode.insertBefore(js\, fjs);\n            }(document\, 'script'\, 'facebook-jssdk')); \n                  \n                   \n                  \n               \n\n\n	\n	\n		\n\n	\n		\n\n			\n\n				\n\n					\n						\n							\n							\n\n\n								\n									\n\n																							\n						\n\n					\n\n				\n\n				\n\n					\n						\n\n							\n								\n									\n										\n								\n\n							\n							\n								\n									El Inca																				 \n									\n								\n								6 meses 5 dias atrás\n							\n						\n\n					\n\n					\n\n					\n													\n								José Malca Landavery\, conocido por todos como Pepe Malca\, nació en Caraz el 10 de enero de 1931\, en el tradicional barrio de Yanachaca. Por\n\n\n								\n\n							 \n\n						\n					\n					\n				\n						\n\n			\n\n\n		\n							\n\n					\n						\n							\n\n																	\n								\n																18							\n							\n\n\n											\n\n							\n								2\n								\n						\n					\n							\n\n				\n			\n\n\n			\n\n				\n					Visualizza su Facebook\n\n				\n				\n					\n						Condividere\n						\n							\n								\n									\n								\n							\n\n							\n								\n									\n								\n							\n\n							\n								\n									\n								\n							\n						\n					\n				\n			\n\n		\n\n\n	\n\n\n	\n\n\n\n\n\n	\n		\n\n			\n\n				\n\n					\n						\n							\n							\n\n\n								\n									\n\n																							\n						\n\n					\n\n				\n\n				\n\n					\n						\n\n							\n								\n									\n										\n								\n\n							\n							\n								\n									El Inca																				 \n									\n								\n								1 anno 2 meses atrás\n							\n						\n\n					\n\n					\n\n					\n													\n								1872: En acto solemne inicia la obra del ferrocarril Chimbote – Huallanca con asistencia del prefecto Nicanor Gonzales del Real\, durante el gobierno de José\n\n\n								\n\n							 \n\n						\n					\n					\n				\n						\n\n			\n\n\n		\n							\n\n					\n						\n							\n\n																	\n								\n																3							\n							\n\n\n											\n\n							\n								1\n								\n						\n					\n							\n\n				\n			\n\n\n			\n\n				\n					Visualizza su Facebook\n\n				\n				\n					\n						Condividere\n						\n							\n								\n									\n								\n							\n\n							\n								\n									\n								\n							\n\n							\n								\n									\n								\n							\n						\n					\n				\n			\n\n		\n\n\n	\n\n\n	\n\n\n\n			\n			\n				\n            (function(d\, s\, id) {\n              var js\, fjs = d.getElementsByTagName(s)[0];\n              if (d.getElementById(id)) return;\n              js = d.createElement(s); js.id = id;\n              js.async=true; \n              js.src = "//connect.facebook.net/en_US/all.js#xfbml=1&appId=395202813876688";\n              fjs.parentNode.insertBefore(js\, fjs);\n            }(document\, 'script'\, 'facebook-jssdk')); \n                  \n                   \n                  \n               \n            \n				\n		\n\n  ins.adsbygoogle { background: transparent !important; } Resalta y difunde cultura.
URL:https://www.elincape.com/undiacomohoyenancash/21-de-abril-en-ancash/
CATEGORIES:Un día como hoy en Ancash
ATTACH;FMTTYPE=image/jpeg:https://www.elincape.com/wp-content/uploads/2019/04/21-de-abril-en-Ancash-El-Inca-Huallanca-Cañón-del-Pato-01.jpg
END:VEVENT
END:VCALENDAR