BEGIN:VCALENDAR
VERSION:2.0
PRODID:-//Sitio web de sociedad y cultura - ECPv4.8.2//NONSGML v1.0//EN
CALSCALE:GREGORIAN
METHOD:PUBLISH
X-WR-CALNAME:Sitio web de sociedad y cultura
X-ORIGINAL-URL:https://www.elincape.com
X-WR-CALDESC:Eventos para Sitio web de sociedad y cultura
BEGIN:VEVENT
DTSTART;VALUE=DATE:20251018
DTEND;VALUE=DATE:20251019
DTSTAMP:20260422T203152
CREATED:20191013T234607Z
LAST-MODIFIED:20251013T173057Z
UID:2837-1760745600-1760831999@www.elincape.com
SUMMARY:18 de octubre en Ancash
DESCRIPTION:Los hechos del día 18 de octubre\, tienen como base los datos del libro Un día como hoy en Ancash\, de Rómulo Pajuelo Prieto: \n \n  \n1821: El ancashino Sebastián Pérez es declarado patriota por la Junta Calificadora\, en reconocimiento a su notable participación en la gesta de la independencia. \n1845: La viceparroquia de Shupluy (provincia Yungay) alcanza la categoría de pueblo\, durante el gobierno de Ramón Castilla. \n1891: En Yungay\, nace Petronila Ángeles o Jacinta de las Llagas\, monja muy venerada en Huaraz. \n1908: En Huaraz\, nace Víctor Ortiz Dextre\, destacado poeta. \n1913: En Recuay\, nace Luis Valenzuela Pomiano\, sacerdote\, escritor y periodista de notable trayectoria. \n1915: En Huata (provincia Huaylas)\, nace Aureo Gonzales Fajardo\, párroco de Caraz y gestor de la construcción del Santuario de la Santísima Virgen de la Asunción de Huata. \n1921: En Pueblo Libre (provincia Huaylas)\, nace Justo César Ramírez Meléndez\, notable educador y promotor de obras comunales. \n1984: La Escuela Normal Mixta de Chimbote recibe la categoría de Centro de Formación de Profesores. \nImagen: Calle de Shupluy de Benjamin Gois (2009).\nNotas del segmento un día como hoy en Áncash:\n\nSolo se aceptarán los comentarios que tengan relación con el contenido de la publicación. No están permitidas las agresiones verbales\, ni opiniones que inciten conflictos o acciones violentas.\nSi deseas agregar o corregir algún dato histórico de este día\, solo contáctanos.\n\n[vc_cta h2=»» txt_align=»center» el_width=»sm» add_button=»top» btn_title=»QUIERO DONAR» btn_shape=»round» btn_color=»inverse» btn_align=»center» btn_css_animation=»top-to-bottom» add_icon=»top» i_icon_fontawesome=»fa fa-arrow-down» i_color=»custom» i_size=»sm» i_css_animation=»top-to-bottom» css_animation=»top-to-bottom» btn_link=»url:https%3A%2F%2Fwww.paypal.com%2Fcgi-bin%2Fwebscr%3Fcmd%3D_s-xclick%26hosted_button_id%3DQLYBAGSK8XDSJ%26source%3Durl||target:%20_blank» i_on_border=»true» i_custom_color=»#57524b» i_link=»url:https%3A%2F%2Fwww.paypal.com%2Fcgi-bin%2Fwebscr%3Fcmd%3D_s-xclick%26hosted_button_id%3DQLYBAGSK8XDSJ%26source%3Durl||target:%20_blank»] \nApoya este proyecto para más y mejor contenido cultural.\n\n\n\n\n\n[/vc_cta][vc_row][vc_column] \n    \n    \n	jQuery(document).ready(function($) {\n		$("#from-the-blog-676135157").owlCarousel({\n			items:3\,\n			itemsDesktop : [1200\,3]\,\n			itemsDesktopSmall : [1000\,2]\,\n			itemsTablet: false\,\n			itemsMobile : [600\,1]\,\n			lazyLoad : true\,\n			/*autoHeight : true\,*/\n		});\n	});\n	\n    \n	\n    \n	\n        \n					\n			                        \n                            \n                                        \n                    \n                        \n						\n							\n								\n								\n																	\n									\n																\n																	\n									\n															\n							José Malca Landavery\n						\n                        \n                        \n                             by admin on octubre 14\, 2025                       \n                        \n                        \n                    \n        \n                            \n                                        \n                    \n                        \n						\n							\n								\n								\n																	\n									\n																\n																	\n									\n															\n							Villa de San Julián de Cuenca y Figueroa\n						\n                        \n                        \n                             by admin on noviembre 1\, 2024                       \n                        \n                        \n                    \n        \n                            \n                                        \n                    \n                        \n						\n							\n								\n								\n																	\n									\n																\n																	\n									\n															\n							Ichick Ollkjo\n						\n                        \n                        \n                             by admin on agosto 21\, 2024                       \n                        \n                        \n                    \n        \n                                \n             \n              \n        \n	\n    \n	\n	[/vc_column][/vc_row] \n  ins.adsbygoogle { background: transparent !important; } Resalta y difunde cultura.
URL:https://www.elincape.com/undiacomohoyenancash/18-de-octubre-en-ancash/
CATEGORIES:Un día como hoy en Ancash
ATTACH;FMTTYPE=image/jpeg:https://www.elincape.com/wp-content/uploads/2019/10/18-de-octubre-en-Ancash-El-Inca-Shupluy-01.jpg
END:VEVENT
END:VCALENDAR