BEGIN:VCALENDAR
VERSION:2.0
PRODID:-//Sitio web de sociedad y cultura - ECPv4.8.2//NONSGML v1.0//EN
CALSCALE:GREGORIAN
METHOD:PUBLISH
X-WR-CALNAME:Sitio web de sociedad y cultura
X-ORIGINAL-URL:https://www.elincape.com
X-WR-CALDESC:Eventos para Sitio web de sociedad y cultura
BEGIN:VEVENT
DTSTART;VALUE=DATE:20250718
DTEND;VALUE=DATE:20250719
DTSTAMP:20260422T231809
CREATED:20190714T201000Z
LAST-MODIFIED:20251013T154229Z
UID:2292-1752796800-1752883199@www.elincape.com
SUMMARY:18 de julio en Ancash
DESCRIPTION:Los hechos del día 18 de julio\, tienen como base los datos del libro Un día como hoy en Ancash\, de Rómulo Pajuelo Prieto:\n \n  \n1900: En Huaraz\, nace Federico Sal y Rosas Gonzalez\, renombrado médico y psiquiatra\, autor de trabajos científicos\, conferencista y periodista. \n1932: Grupos apristas ingresan a Yungay\, encabezados por el mayor López Mindreau. Toman por asalto a la ciudad y saquearon tiendas comerciales. Luego pasan a Caraz. \nHuaraz es declarado estado de sitio por el enfrentamiento entre revolucionarios apristas y fuerzas del orden. \n1955: En Huaraz\, nace Erman Colonia Figueroa\, sacerdote\, profesor\, poeta y periodista de destacada trayectoria en Chimbote. \n1978: Muere Áureo Gonzales Fajardo\, ilustre sacerdote y educador huatino\, gestor de la construcción del Santuario de la Virgen de la Asunción de Huata. \n1981: Entra en funcionamiento la tercera y última etapa de la Central Hidroeléctrica del Cañón del Pato\, inaugurado por Fernando Belaunde Terry. \n1996: Eligen la bandera y el escudo de Casma. El autor de la bandera fue Jorge Revelo Valera que participó en el concurso con el seudónimo “Sol del Norte”; las letras y música del himno fueron compuestas por Deley Revelo Barrera y Francisco Tamayo Gonzales con el seudónimo “Dúo de Oro”. \n2008: Inauguran el Museo Nacional Chavín\, financiado por el gobierno del Japón y el Fondo General de Contravalor Perú Japón. \n2020: La Dirección Regional de Salud confirma el primer caso de Coronavirus en el distrito Llacllín (provincia Recuay). Sumando 15723 personas infectadas (902 muertes) en el departamento. \nNotas del segmento un día como hoy en Áncash: \n\nSolo se aceptarán los comentarios que tengan relación con el contenido de la publicación. No están permitidas las agresiones verbales\, ni opiniones que inciten conflictos o acciones violentas.\nSi deseas agregar o corregir algún dato histórico de este día\, solo contáctanos.\n\n[vc_cta h2=»» txt_align=»center» el_width=»sm» add_button=»top» btn_title=»QUIERO DONAR» btn_shape=»round» btn_color=»inverse» btn_align=»center» btn_css_animation=»top-to-bottom» add_icon=»top» i_icon_fontawesome=»fa fa-arrow-down» i_color=»custom» i_size=»sm» i_css_animation=»top-to-bottom» css_animation=»top-to-bottom» btn_link=»url:https%3A%2F%2Fwww.paypal.com%2Fcgi-bin%2Fwebscr%3Fcmd%3D_s-xclick%26hosted_button_id%3DQLYBAGSK8XDSJ%26source%3Durl||target:%20_blank» i_on_border=»true» i_custom_color=»#57524b» i_link=»url:https%3A%2F%2Fwww.paypal.com%2Fcgi-bin%2Fwebscr%3Fcmd%3D_s-xclick%26hosted_button_id%3DQLYBAGSK8XDSJ%26source%3Durl||target:%20_blank»] \nApoya este proyecto para más y mejor contenido cultural.\n\n\n\n\n\n[/vc_cta][vc_row][vc_column] \n    \n    \n	jQuery(document).ready(function($) {\n		$("#from-the-blog-117280807").owlCarousel({\n			items:3\,\n			itemsDesktop : [1200\,3]\,\n			itemsDesktopSmall : [1000\,2]\,\n			itemsTablet: false\,\n			itemsMobile : [600\,1]\,\n			lazyLoad : true\,\n			/*autoHeight : true\,*/\n		});\n	});\n	\n    \n	\n    \n	\n        \n					\n			                        \n                            \n                                        \n                    \n                        \n						\n							\n								\n								\n																	\n									\n																\n																	\n									\n															\n							José Malca Landavery\n						\n                        \n                        \n                             by admin on octubre 14\, 2025                       \n                        \n                        \n                    \n        \n                            \n                                        \n                    \n                        \n						\n							\n								\n								\n																	\n									\n																\n																	\n									\n															\n							Villa de San Julián de Cuenca y Figueroa\n						\n                        \n                        \n                             by admin on noviembre 1\, 2024                       \n                        \n                        \n                    \n        \n                            \n                                        \n                    \n                        \n						\n							\n								\n								\n																	\n									\n																\n																	\n									\n															\n							Ichick Ollkjo\n						\n                        \n                        \n                             by admin on agosto 21\, 2024                       \n                        \n                        \n                    \n        \n                                \n             \n              \n        \n	\n    \n	\n	[/vc_column][/vc_row]\n\n            (function(d\, s\, id) {\n              var js\, fjs = d.getElementsByTagName(s)[0];\n              if (d.getElementById(id)) return;\n              js = d.createElement(s); js.id = id;\n              js.async=true; \n              js.src = "//connect.facebook.net/es_LA/all.js#xfbml=1&appId=395202813876688";\n              fjs.parentNode.insertBefore(js\, fjs);\n            }(document\, 'script'\, 'facebook-jssdk')); \n                  \n                   \n                  \n               \n\n\n	\n	\n		\n\n	\n		\n\n			\n\n				\n\n					\n						\n							\n							\n\n\n								\n									\n\n																							\n						\n\n					\n\n				\n\n				\n\n					\n						\n\n							\n								\n									\n										\n								\n\n							\n							\n								\n									El Inca																				 \n									\n								\n								6 meses 1 settimana atrás\n							\n						\n\n					\n\n					\n\n					\n													\n								José Malca Landavery\, conocido por todos como Pepe Malca\, nació en Caraz el 10 de enero de 1931\, en el tradicional barrio de Yanachaca. Por\n\n\n								\n\n							 \n\n						\n					\n					\n				\n						\n\n			\n\n\n		\n							\n\n					\n						\n							\n\n																	\n								\n																18							\n							\n\n\n											\n\n							\n								2\n								\n						\n					\n							\n\n				\n			\n\n\n			\n\n				\n					Visualizza su Facebook\n\n				\n				\n					\n						Condividere\n						\n							\n								\n									\n								\n							\n\n							\n								\n									\n								\n							\n\n							\n								\n									\n								\n							\n						\n					\n				\n			\n\n		\n\n\n	\n\n\n	\n\n\n\n\n\n	\n		\n\n			\n\n				\n\n					\n						\n							\n							\n\n\n								\n									\n\n																							\n						\n\n					\n\n				\n\n				\n\n					\n						\n\n							\n								\n									\n										\n								\n\n							\n							\n								\n									El Inca																				 \n									\n								\n								1 anno 2 meses atrás\n							\n						\n\n					\n\n					\n\n					\n													\n								1872: En acto solemne inicia la obra del ferrocarril Chimbote – Huallanca con asistencia del prefecto Nicanor Gonzales del Real\, durante el gobierno de José\n\n\n								\n\n							 \n\n						\n					\n					\n				\n						\n\n			\n\n\n		\n							\n\n					\n						\n							\n\n																	\n								\n																3							\n							\n\n\n											\n\n							\n								1\n								\n						\n					\n							\n\n				\n			\n\n\n			\n\n				\n					Visualizza su Facebook\n\n				\n				\n					\n						Condividere\n						\n							\n								\n									\n								\n							\n\n							\n								\n									\n								\n							\n\n							\n								\n									\n								\n							\n						\n					\n				\n			\n\n		\n\n\n	\n\n\n	\n\n\n\n			\n			\n				\n            (function(d\, s\, id) {\n              var js\, fjs = d.getElementsByTagName(s)[0];\n              if (d.getElementById(id)) return;\n              js = d.createElement(s); js.id = id;\n              js.async=true; \n              js.src = "//connect.facebook.net/en_US/all.js#xfbml=1&appId=395202813876688";\n              fjs.parentNode.insertBefore(js\, fjs);\n            }(document\, 'script'\, 'facebook-jssdk')); \n                  \n                   \n                  \n               \n            \n				\n		\n\n  ins.adsbygoogle { background: transparent !important; } Resalta y difunde cultura.
URL:https://www.elincape.com/undiacomohoyenancash/18-de-julio-en-ancash/
CATEGORIES:Un día como hoy en Ancash
ATTACH;FMTTYPE=image/jpeg:https://www.elincape.com/wp-content/uploads/2019/07/18-de-julio-en-Ancash-El-Inca-Federico-Sal-y-Rosas-Gonzalez-Huaraz-01.jpg
END:VEVENT
END:VCALENDAR