BEGIN:VCALENDAR
VERSION:2.0
PRODID:-//Sitio web de sociedad y cultura - ECPv4.8.2//NONSGML v1.0//EN
CALSCALE:GREGORIAN
METHOD:PUBLISH
X-WR-CALNAME:Sitio web de sociedad y cultura
X-ORIGINAL-URL:https://www.elincape.com
X-WR-CALDESC:Eventos para Sitio web de sociedad y cultura
BEGIN:VEVENT
DTSTART;VALUE=DATE:20250917
DTEND;VALUE=DATE:20250918
DTSTAMP:20260422T083933
CREATED:20190915T002501Z
LAST-MODIFIED:20251013T164046Z
UID:2695-1758067200-1758153599@www.elincape.com
SUMMARY:17 de septiembre en Ancash
DESCRIPTION:Los hechos del día 17 de septiembre\, tienen como base los datos del libro Un día como hoy en Ancash\, de Rómulo Pajuelo Prieto: \n \n  \n1768: Campesinos de la hacienda San Jacinto (provincia Santa) se rebelan por la prohibición de entrega de chacras a esclavos. Los líderes de la revuelta: Lorenzo Mombo\, Francisco Rojas\, Gastón Congo\, Julián Grande\, Mariano “El Manco”\, Juan de la Cruz y Rosa Conga\, son confinados en el presidio del Callao. Antes de marchar al presidio recibieron 200 azotes. \n1884: El pueblo Caraz se revela contra presuntos abusos de José Mercedes Puga que llegó comandando las fuerzas de Andrés Avelino Cáceres. \n1901: El monseñor Francisco Ezequiel de Salas Soto asume el cargo de primer obispo de la Diócesis de Huaraz y la Congregación de los Sagrados Corazones. \n1945: Muere el monseñor Pedro Pascual Farfán de los Godos\, obispo de Huaraz\, Cuzco y arzobispo de Lima. Fundó el Seminario Menor San Pedro Pascual de Carhuaz. \n1967: Inauguran la carretera Pasacancha – Pomabamba – Piscobamba durante el gobierno de Fernando Belaunde Terry. \n1979: Muere Alejandro Granados Castellanos\, destacado educador y alcalde de Casma. \n1985: Muere Maximiliano Rosario Shuan\, compositor huaracino\, conocido en la música vernacular. \n1992: Muere Víctor Ramos Guardia\, fundador de la Cámara de Comercio de Huaraz\, del Rotary Club de Huaraz\, director del Hospital Belén. Hoy el Hospital de Apoyo de Huaraz lleva su nombre. \nDeclaran como Patrimonio Ecológico al Vivero Forestal de Chimbote. \n2018: El Ministerio de Salud y Antamina firman un convenio de inversión pública por más de 900 millones de soles para la construcción del nuevo hospital de Huarmey con categoría II-2. \nNotas del segmento un día como hoy en Áncash:\n\nSolo se aceptarán los comentarios que tengan relación con el contenido de la publicación. No están permitidas las agresiones verbales\, ni opiniones que inciten conflictos o acciones violentas.\nSi deseas agregar o corregir algún dato histórico de este día\, solo contáctanos.\n\n[vc_cta h2=»» txt_align=»center» el_width=»sm» add_button=»top» btn_title=»QUIERO DONAR» btn_shape=»round» btn_color=»inverse» btn_align=»center» btn_css_animation=»top-to-bottom» add_icon=»top» i_icon_fontawesome=»fa fa-arrow-down» i_color=»custom» i_size=»sm» i_css_animation=»top-to-bottom» css_animation=»top-to-bottom» btn_link=»url:https%3A%2F%2Fwww.paypal.com%2Fcgi-bin%2Fwebscr%3Fcmd%3D_s-xclick%26hosted_button_id%3DQLYBAGSK8XDSJ%26source%3Durl||target:%20_blank» i_on_border=»true» i_custom_color=»#57524b» i_link=»url:https%3A%2F%2Fwww.paypal.com%2Fcgi-bin%2Fwebscr%3Fcmd%3D_s-xclick%26hosted_button_id%3DQLYBAGSK8XDSJ%26source%3Durl||target:%20_blank»] \nApoya este proyecto para más y mejor contenido cultural.\n\n\n\n\n\n[/vc_cta][vc_row][vc_column] \n    \n    \n	jQuery(document).ready(function($) {\n		$("#from-the-blog-1491070110").owlCarousel({\n			items:3\,\n			itemsDesktop : [1200\,3]\,\n			itemsDesktopSmall : [1000\,2]\,\n			itemsTablet: false\,\n			itemsMobile : [600\,1]\,\n			lazyLoad : true\,\n			/*autoHeight : true\,*/\n		});\n	});\n	\n    \n	\n    \n	\n        \n					\n			                        \n                            \n                                        \n                    \n                        \n						\n							\n								\n								\n																	\n									\n																\n																	\n									\n															\n							José Malca Landavery\n						\n                        \n                        \n                             by admin on octubre 14\, 2025                       \n                        \n                        \n                    \n        \n                            \n                                        \n                    \n                        \n						\n							\n								\n								\n																	\n									\n																\n																	\n									\n															\n							Villa de San Julián de Cuenca y Figueroa\n						\n                        \n                        \n                             by admin on noviembre 1\, 2024                       \n                        \n                        \n                    \n        \n                            \n                                        \n                    \n                        \n						\n							\n								\n								\n																	\n									\n																\n																	\n									\n															\n							Ichick Ollkjo\n						\n                        \n                        \n                             by admin on agosto 21\, 2024                       \n                        \n                        \n                    \n        \n                                \n             \n              \n        \n	\n    \n	\n	[/vc_column][/vc_row]\n\n            (function(d\, s\, id) {\n              var js\, fjs = d.getElementsByTagName(s)[0];\n              if (d.getElementById(id)) return;\n              js = d.createElement(s); js.id = id;\n              js.async=true; \n              js.src = "//connect.facebook.net/es_LA/all.js#xfbml=1&appId=395202813876688";\n              fjs.parentNode.insertBefore(js\, fjs);\n            }(document\, 'script'\, 'facebook-jssdk')); \n                  \n                   \n                  \n               \n\n\n	\n	\n		\n\n	\n		\n\n			\n\n				\n\n					\n						\n							\n							\n\n\n								\n									\n\n																							\n						\n\n					\n\n				\n\n				\n\n					\n						\n\n							\n								\n									\n										\n								\n\n							\n							\n								\n									El Inca																				 \n									\n								\n								6 meses 1 settimana atrás\n							\n						\n\n					\n\n					\n\n					\n													\n								José Malca Landavery\, conocido por todos como Pepe Malca\, nació en Caraz el 10 de enero de 1931\, en el tradicional barrio de Yanachaca. Por\n\n\n								\n\n							 \n\n						\n					\n					\n				\n						\n\n			\n\n\n		\n							\n\n					\n						\n							\n\n																	\n								\n																18							\n							\n\n\n											\n\n							\n								2\n								\n						\n					\n							\n\n				\n			\n\n\n			\n\n				\n					Visualizza su Facebook\n\n				\n				\n					\n						Condividere\n						\n							\n								\n									\n								\n							\n\n							\n								\n									\n								\n							\n\n							\n								\n									\n								\n							\n						\n					\n				\n			\n\n		\n\n\n	\n\n\n	\n\n\n\n\n\n	\n		\n\n			\n\n				\n\n					\n						\n							\n							\n\n\n								\n									\n\n																							\n						\n\n					\n\n				\n\n				\n\n					\n						\n\n							\n								\n									\n										\n								\n\n							\n							\n								\n									El Inca																				 \n									\n								\n								1 anno 2 meses atrás\n							\n						\n\n					\n\n					\n\n					\n													\n								1872: En acto solemne inicia la obra del ferrocarril Chimbote – Huallanca con asistencia del prefecto Nicanor Gonzales del Real\, durante el gobierno de José\n\n\n								\n\n							 \n\n						\n					\n					\n				\n						\n\n			\n\n\n		\n							\n\n					\n						\n							\n\n																	\n								\n																3							\n							\n\n\n											\n\n							\n								1\n								\n						\n					\n							\n\n				\n			\n\n\n			\n\n				\n					Visualizza su Facebook\n\n				\n				\n					\n						Condividere\n						\n							\n								\n									\n								\n							\n\n							\n								\n									\n								\n							\n\n							\n								\n									\n								\n							\n						\n					\n				\n			\n\n		\n\n\n	\n\n\n	\n\n\n\n			\n			\n				\n            (function(d\, s\, id) {\n              var js\, fjs = d.getElementsByTagName(s)[0];\n              if (d.getElementById(id)) return;\n              js = d.createElement(s); js.id = id;\n              js.async=true; \n              js.src = "//connect.facebook.net/en_US/all.js#xfbml=1&appId=395202813876688";\n              fjs.parentNode.insertBefore(js\, fjs);\n            }(document\, 'script'\, 'facebook-jssdk')); \n                  \n                   \n                  \n               \n            \n				\n		\n\n  ins.adsbygoogle { background: transparent !important; } Resalta y difunde cultura.
URL:https://www.elincape.com/undiacomohoyenancash/17-de-septiembre-en-ancash/
CATEGORIES:Un día como hoy en Ancash
END:VEVENT
END:VCALENDAR