BEGIN:VCALENDAR
VERSION:2.0
PRODID:-//Sitio web de sociedad y cultura - ECPv4.8.2//NONSGML v1.0//EN
CALSCALE:GREGORIAN
METHOD:PUBLISH
X-WR-CALNAME:Sitio web de sociedad y cultura
X-ORIGINAL-URL:https://www.elincape.com
X-WR-CALDESC:Eventos para Sitio web de sociedad y cultura
BEGIN:VEVENT
DTSTART;VALUE=DATE:20260214
DTEND;VALUE=DATE:20260215
DTSTAMP:20260420T080928
CREATED:20190214T064425Z
LAST-MODIFIED:20260407T182918Z
UID:799-1771027200-1771113599@www.elincape.com
SUMMARY:14 de febrero en Ancash
DESCRIPTION:\n\n\n\n\nLos hechos del día 14 de febrero\, tienen como base los datos del libro Un día como hoy en Ancash\, de Rómulo Pajuelo Prieto: \n \n  \n1619: Un terremoto de 8.2 en la escala de Richter ocasiona la ruina de Trujillo y la villa Santa. Afectó un área de 250 leguas. Las aguas de los ríos Santa y Barranca se ennegrecieron por los deslizamientos y aluviones en el interior del territorio\, registros indican 300 muertos y muchos heridos. \n1825: Otorgan la nacionalidad peruana a Felipe Antonio Alvarado\, por sus distinguidos servicios a la causa de la independencia. Cuando desempeñaba la presidencia del Congreso Constituyente\, otorgó el título de “muy generosa ciudad” a Huaraz. \n1863: Después de algunos años\, logran instalar el Tribunal Superior de Ancash\, hoy Corte Superior de Justicia. \n1940: Muere Julio César Mejía Pajuelo\, destacado diplomático caracino. \n1948: Un violento sismo afecta a Sihuas\, Pallasca\, Pomabamba y Quiches\, provocando derrumbes de cerros. Dejó siete muertos y afectó caminos. \n1962: Muere Abdón Max Pajuelo Mejía\, destacado historiador\, educador y periodista aijino. \n1969: Muere Atilio Oré Lara\, gran dirigente sindical\, maestro y poeta de Pallasca\, autor del poemario “Ofrenda a la madre”. \n2004: En Yungay\, sicarios asesinan al periodista Antonio De la Torre Echeandía. Crimen que no ha sido esclarecido. \nNotas del segmento un día como hoy en Áncash:\n\nSolo se aceptarán los comentarios que tengan relación con el contenido de la publicación. No están permitidas las agresiones verbales\, ni opiniones que inciten conflictos o acciones violentas.\nSi deseas agregar o corregir algún dato histórico de este día\, solo contáctanos.\n\n[vc_cta h2=»» txt_align=»center» el_width=»sm» add_button=»top» btn_title=»QUIERO DONAR» btn_shape=»round» btn_color=»inverse» btn_align=»center» btn_css_animation=»top-to-bottom» add_icon=»top» i_icon_fontawesome=»fa fa-arrow-down» i_color=»custom» i_size=»sm» i_css_animation=»top-to-bottom» css_animation=»top-to-bottom» btn_link=»url:https%3A%2F%2Fwww.paypal.com%2Fcgi-bin%2Fwebscr%3Fcmd%3D_s-xclick%26hosted_button_id%3DQLYBAGSK8XDSJ%26source%3Durl||target:%20_blank» i_on_border=»true» i_custom_color=»#57524b» i_link=»url:https%3A%2F%2Fwww.paypal.com%2Fcgi-bin%2Fwebscr%3Fcmd%3D_s-xclick%26hosted_button_id%3DQLYBAGSK8XDSJ%26source%3Durl||target:%20_blank»] \nApoya este proyecto para más y mejor contenido cultural.\n   \n [/vc_cta][vc_row][vc_column] \n    \n    \n	jQuery(document).ready(function($) {\n		$("#from-the-blog-1570279071").owlCarousel({\n			items:3\,\n			itemsDesktop : [1200\,3]\,\n			itemsDesktopSmall : [1000\,2]\,\n			itemsTablet: false\,\n			itemsMobile : [600\,1]\,\n			lazyLoad : true\,\n			/*autoHeight : true\,*/\n		});\n	});\n	\n    \n	\n    \n	\n        \n					\n			                        \n                            \n                                        \n                    \n                        \n						\n							\n								\n								\n																	\n									\n																\n																	\n									\n															\n							José Malca Landavery\n						\n                        \n                        \n                             by admin on octubre 14\, 2025                       \n                        \n                        \n                    \n        \n                            \n                                        \n                    \n                        \n						\n							\n								\n								\n																	\n									\n																\n																	\n									\n															\n							Villa de San Julián de Cuenca y Figueroa\n						\n                        \n                        \n                             by admin on noviembre 1\, 2024                       \n                        \n                        \n                    \n        \n                            \n                                        \n                    \n                        \n						\n							\n								\n								\n																	\n									\n																\n																	\n									\n															\n							Ichick Ollkjo\n						\n                        \n                        \n                             by admin on agosto 21\, 2024                       \n                        \n                        \n                    \n        \n                                \n             \n              \n        \n	\n    \n	\n	[/vc_column][/vc_row] \n            (function(d\, s\, id) {\n              var js\, fjs = d.getElementsByTagName(s)[0];\n              if (d.getElementById(id)) return;\n              js = d.createElement(s); js.id = id;\n              js.async=true; \n              js.src = "//connect.facebook.net/es_LA/all.js#xfbml=1&appId=395202813876688";\n              fjs.parentNode.insertBefore(js\, fjs);\n            }(document\, 'script'\, 'facebook-jssdk')); \n                  \n                   \n                  \n               \n\n\n	\n	\n		\n\n	\n		\n\n			\n\n				\n\n					\n						\n							\n							\n\n\n								\n									\n\n																							\n						\n\n					\n\n				\n\n				\n\n					\n						\n\n							\n								\n									\n										\n								\n\n							\n							\n								\n									El Inca																				 \n									\n								\n								6 meses 5 dias atrás\n							\n						\n\n					\n\n					\n\n					\n													\n								José Malca Landavery\, conocido por todos como Pepe Malca\, nació en Caraz el 10 de enero de 1931\, en el tradicional barrio de Yanachaca. Por\n\n\n								\n\n							 \n\n						\n					\n					\n				\n						\n\n			\n\n\n		\n							\n\n					\n						\n							\n\n																	\n								\n																18							\n							\n\n\n											\n\n							\n								2\n								\n						\n					\n							\n\n				\n			\n\n\n			\n\n				\n					Visualizza su Facebook\n\n				\n				\n					\n						Condividere\n						\n							\n								\n									\n								\n							\n\n							\n								\n									\n								\n							\n\n							\n								\n									\n								\n							\n						\n					\n				\n			\n\n		\n\n\n	\n\n\n	\n\n\n\n\n\n	\n		\n\n			\n\n				\n\n					\n						\n							\n							\n\n\n								\n									\n\n																							\n						\n\n					\n\n				\n\n				\n\n					\n						\n\n							\n								\n									\n										\n								\n\n							\n							\n								\n									El Inca																				 \n									\n								\n								1 anno 2 meses atrás\n							\n						\n\n					\n\n					\n\n					\n													\n								1872: En acto solemne inicia la obra del ferrocarril Chimbote – Huallanca con asistencia del prefecto Nicanor Gonzales del Real\, durante el gobierno de José\n\n\n								\n\n							 \n\n						\n					\n					\n				\n						\n\n			\n\n\n		\n							\n\n					\n						\n							\n\n																	\n								\n																3							\n							\n\n\n											\n\n							\n								1\n								\n						\n					\n							\n\n				\n			\n\n\n			\n\n				\n					Visualizza su Facebook\n\n				\n				\n					\n						Condividere\n						\n							\n								\n									\n								\n							\n\n							\n								\n									\n								\n							\n\n							\n								\n									\n								\n							\n						\n					\n				\n			\n\n		\n\n\n	\n\n\n	\n\n\n\n			\n			\n				\n            (function(d\, s\, id) {\n              var js\, fjs = d.getElementsByTagName(s)[0];\n              if (d.getElementById(id)) return;\n              js = d.createElement(s); js.id = id;\n              js.async=true; \n              js.src = "//connect.facebook.net/en_US/all.js#xfbml=1&appId=395202813876688";\n              fjs.parentNode.insertBefore(js\, fjs);\n            }(document\, 'script'\, 'facebook-jssdk')); \n                  \n                   \n                  \n               \n            \n				\n		\n  ins.adsbygoogle { background: transparent !important; } Resalta y difunde cultura.
URL:https://www.elincape.com/undiacomohoyenancash/14-de-febrero-en-ancash/
CATEGORIES:Un día como hoy en Ancash
ATTACH;FMTTYPE=image/jpeg:https://www.elincape.com/wp-content/uploads/2019/02/14-de-febrero-en-Ancash-El-Inca-Felipe-Antonio-Alvarado-01.jpg
END:VEVENT
END:VCALENDAR