BEGIN:VCALENDAR
VERSION:2.0
PRODID:-//Sitio web de sociedad y cultura - ECPv4.8.2//NONSGML v1.0//EN
CALSCALE:GREGORIAN
METHOD:PUBLISH
X-WR-CALNAME:Sitio web de sociedad y cultura
X-ORIGINAL-URL:https://www.elincape.com
X-WR-CALDESC:Eventos para Sitio web de sociedad y cultura
BEGIN:VEVENT
DTSTART;VALUE=DATE:20251011
DTEND;VALUE=DATE:20251012
DTSTAMP:20260420T083127
CREATED:20191006T173112Z
LAST-MODIFIED:20251013T172625Z
UID:2804-1760140800-1760227199@www.elincape.com
SUMMARY:11 de octubre en Ancash
DESCRIPTION:Los hechos del día 11 de octubre\, tienen como base los datos del libro Un día como hoy en Ancash\, de Rómulo Pajuelo Prieto: \n \n  \n1886: En Huari\, nace Luis Beltrán Pozo\, sacerdote y periodista\, pionero de las letras huarinas. \n1887: En Supe (provincia Lima)\, nace Luis Ormeño Alarcón\, alcalde de Casma\, boticario de prestigio. Hoy una avenida lleva su nombre. \n1909: Casma es elevada a la categoría de ciudad\, durante el gobierno del presidente Augusto B. Leguía. \n1956: Crean el distrito Rahuapampa\, provincia Huari. \n2018: La Dirección Regional de Salud Ancash entrega el terreno a la empresa ATA\, para el nuevo hospital «San Juan de Dios» de Caraz. \nNotas del segmento un día como hoy en Áncash:\n\nSolo se aceptarán los comentarios que tengan relación con el contenido de la publicación. No están permitidas las agresiones verbales\, ni opiniones que inciten conflictos o acciones violentas.\nSi deseas agregar o corregir algún dato histórico de este día\, solo contáctanos.\n\n[vc_cta h2=»» txt_align=»center» el_width=»sm» add_button=»top» btn_title=»QUIERO DONAR» btn_shape=»round» btn_color=»inverse» btn_align=»center» btn_css_animation=»top-to-bottom» add_icon=»top» i_icon_fontawesome=»fa fa-arrow-down» i_color=»custom» i_size=»sm» i_css_animation=»top-to-bottom» css_animation=»top-to-bottom» btn_link=»url:https%3A%2F%2Fwww.paypal.com%2Fcgi-bin%2Fwebscr%3Fcmd%3D_s-xclick%26hosted_button_id%3DQLYBAGSK8XDSJ%26source%3Durl||target:%20_blank» i_on_border=»true» i_custom_color=»#57524b» i_link=»url:https%3A%2F%2Fwww.paypal.com%2Fcgi-bin%2Fwebscr%3Fcmd%3D_s-xclick%26hosted_button_id%3DQLYBAGSK8XDSJ%26source%3Durl||target:%20_blank»] \nApoya este proyecto para más y mejor contenido cultural.\n\n\n\n\n\n[/vc_cta][vc_row][vc_column] \n    \n    \n	jQuery(document).ready(function($) {\n		$("#from-the-blog-1859378114").owlCarousel({\n			items:3\,\n			itemsDesktop : [1200\,3]\,\n			itemsDesktopSmall : [1000\,2]\,\n			itemsTablet: false\,\n			itemsMobile : [600\,1]\,\n			lazyLoad : true\,\n			/*autoHeight : true\,*/\n		});\n	});\n	\n    \n	\n    \n	\n        \n					\n			                        \n                            \n                                        \n                    \n                        \n						\n							\n								\n								\n																	\n									\n																\n																	\n									\n															\n							José Malca Landavery\n						\n                        \n                        \n                             by admin on octubre 14\, 2025                       \n                        \n                        \n                    \n        \n                            \n                                        \n                    \n                        \n						\n							\n								\n								\n																	\n									\n																\n																	\n									\n															\n							Villa de San Julián de Cuenca y Figueroa\n						\n                        \n                        \n                             by admin on noviembre 1\, 2024                       \n                        \n                        \n                    \n        \n                            \n                                        \n                    \n                        \n						\n							\n								\n								\n																	\n									\n																\n																	\n									\n															\n							Ichick Ollkjo\n						\n                        \n                        \n                             by admin on agosto 21\, 2024                       \n                        \n                        \n                    \n        \n                                \n             \n              \n        \n	\n    \n	\n	[/vc_column][/vc_row] \n  ins.adsbygoogle { background: transparent !important; } Resalta y difunde cultura.
URL:https://www.elincape.com/undiacomohoyenancash/11-de-octubre-en-ancash/
CATEGORIES:Un día como hoy en Ancash
ATTACH;FMTTYPE=image/jpeg:https://www.elincape.com/wp-content/uploads/2019/10/11-de-octubre-en-Ancash-El-Inca-Casma.jpg
END:VEVENT
END:VCALENDAR